BEGIN:VCALENDAR
VERSION:2.0
PRODID:SchoolNow
CALSCALE:GREGORIAN
BEGIN:VEVENT
UID:0eb5d45e-1f97-11f1-a5ec-0afffdf24241
DTSTAMP:20260421T142007Z
SUMMARY:Spring Musical T-Shirt Free Dress
URL;VALUE=URI:https://www.sjdlschool.com/student-life/fine-arts/spring-musi
 cal-production/calendar/8917402/spring-musical-t-shirt-free-dress
DTSTART;VALUE=DATE:20260320
DTEND;VALUE=DATE:20260321
END:VEVENT
END:VCALENDAR
