BEGIN:VCALENDAR
VERSION:2.0
PRODID:SchoolNow
CALSCALE:GREGORIAN
BEGIN:VEVENT
UID:0eb5d1a2-1f97-11f1-825f-0afffdf24241
DTSTAMP:20260421T142007Z
SUMMARY:Spring Musical T-Shirt Free Dress
URL;VALUE=URI:https://www.sjdlschool.com/student-life/fine-arts/spring-musi
 cal-production/calendar/8917401/spring-musical-t-shirt-free-dress
DTSTART;VALUE=DATE:20260318
DTEND;VALUE=DATE:20260319
END:VEVENT
END:VCALENDAR
