BEGIN:VCALENDAR
VERSION:2.0
PRODID:SchoolNow
CALSCALE:GREGORIAN
BEGIN:VEVENT
UID:808c7ece-1165-11f1-afd6-02767c4e4ce9
DTSTAMP:20260421T142007Z
SUMMARY:Spring Musical Rehearsal\; Scenes 1 through 6
URL;VALUE=URI:https://www.sjdlschool.com/student-life/fine-arts/spring-musi
 cal-production/calendar/8868760/spring-musical-rehearsal-scenes-1-through-
 6
DTSTART:20260304T003000Z
DTEND:20260304T020000Z
END:VEVENT
END:VCALENDAR
