BEGIN:VCALENDAR
VERSION:2.0
PRODID:SchoolNow
CALSCALE:GREGORIAN
BEGIN:VEVENT
UID:808c7ce4-1165-11f1-9309-02767c4e4ce9
DTSTAMP:20260421T142007Z
SUMMARY:Spring Musical Rehearsal\; Scenes 7 though 13
URL;VALUE=URI:https://www.sjdlschool.com/student-life/fine-arts/spring-musi
 cal-production/calendar/8868759/spring-musical-rehearsal-scenes-7-though-1
 3
DTSTART:20260312T233000Z
DTEND:20260313T010000Z
END:VEVENT
END:VCALENDAR
