BEGIN:VCALENDAR
VERSION:2.0
PRODID:SchoolNow
CALSCALE:GREGORIAN
BEGIN:VEVENT
UID:808c7b2c-1165-11f1-9ca9-02767c4e4ce9
DTSTAMP:20260421T142007Z
SUMMARY:Spring Musical Rehearsal\; Scenes 7 through 13
URL;VALUE=URI:https://www.sjdlschool.com/student-life/fine-arts/spring-musi
 cal-production/calendar/8868758/spring-musical-rehearsal-scenes-7-through-
 13
DTSTART:20260306T010000Z
DTEND:20260306T023000Z
END:VEVENT
END:VCALENDAR
