BEGIN:VCALENDAR
VERSION:2.0
PRODID:SchoolNow
CALSCALE:GREGORIAN
BEGIN:VEVENT
UID:808c5a20-1165-11f1-bd73-02767c4e4ce9
DTSTAMP:20260421T142007Z
SUMMARY:Spring Musical Rehearsal\; Scenes 1 though 6
URL;VALUE=URI:https://www.sjdlschool.com/student-life/fine-arts/spring-musi
 cal-production/calendar/8868757/spring-musical-rehearsal-scenes-1-though-6
DTSTART:20260310T233000Z
DTEND:20260311T010000Z
END:VEVENT
END:VCALENDAR
