BEGIN:VCALENDAR
VERSION:2.0
PRODID:SchoolNow
CALSCALE:GREGORIAN
BEGIN:VEVENT
UID:5ad6eaf6-00d6-11f1-b45d-0ecce44ffeab
DTSTAMP:20260421T142007Z
SUMMARY:Spring Musical Rehearsal: Scenes 1-6
URL;VALUE=URI:https://www.sjdlschool.com/student-life/fine-arts/spring-musi
 cal-production/calendar/8848394/spring-musical-rehearsal-scenes-1-6
DTSTART:20260225T003000Z
DTEND:20260225T020000Z
END:VEVENT
END:VCALENDAR
