BEGIN:VCALENDAR
VERSION:2.0
PRODID:SchoolNow
CALSCALE:GREGORIAN
BEGIN:VEVENT
UID:5ad6e9e8-00d6-11f1-ac8e-0ecce44ffeab
DTSTAMP:20260421T142007Z
SUMMARY:Spring Musical Rehearsal\; Scene 1
URL;VALUE=URI:https://www.sjdlschool.com/student-life/fine-arts/spring-musi
 cal-production/calendar/8848393/spring-musical-rehearsal-scene-1
DTSTART:20260210T224500Z
DTEND:20260211T003000Z
END:VEVENT
END:VCALENDAR
