BEGIN:VCALENDAR
VERSION:2.0
PRODID:SchoolNow
CALSCALE:GREGORIAN
BEGIN:VEVENT
UID:5ad6e7fe-00d6-11f1-8ee8-0ecce44ffeab
DTSTAMP:20260421T142007Z
SUMMARY:Spring Musical Rehearsal: Scenes 7-13
URL;VALUE=URI:https://www.sjdlschool.com/student-life/fine-arts/spring-musi
 cal-production/calendar/8848392/spring-musical-rehearsal-scenes-7-13
DTSTART:20260227T010000Z
DTEND:20260227T023000Z
END:VEVENT
END:VCALENDAR
