BEGIN:VCALENDAR
VERSION:2.0
PRODID:SchoolNow
CALSCALE:GREGORIAN
BEGIN:VEVENT
UID:5ad6e6aa-00d6-11f1-84fe-0ecce44ffeab
DTSTAMP:20260421T142007Z
SUMMARY:Spring Musical Rehearsal\; Scenes 3 and 6
URL;VALUE=URI:https://www.sjdlschool.com/student-life/fine-arts/spring-musi
 cal-production/calendar/8848391/spring-musical-rehearsal-scenes-3-and-6
DTSTART:20260206T214500Z
DTEND:20260206T230000Z
END:VEVENT
END:VCALENDAR
