BEGIN:VCALENDAR
VERSION:2.0
PRODID:SchoolNow
CALSCALE:GREGORIAN
BEGIN:VEVENT
UID:5ad6e466-00d6-11f1-81fd-0ecce44ffeab
DTSTAMP:20260421T142007Z
SUMMARY:Spring Musical Rehearsal:  Scene 2 and 7
URL;VALUE=URI:https://www.sjdlschool.com/student-life/fine-arts/spring-musi
 cal-production/calendar/8848390/spring-musical-rehearsal-scene-2-and-7
DTSTART:20260212T224500Z
DTEND:20260213T003000Z
END:VEVENT
END:VCALENDAR
