BEGIN:VCALENDAR
VERSION:2.0
PRODID:SchoolNow
CALSCALE:GREGORIAN
BEGIN:VEVENT
UID:5ad6cf4e-00d6-11f1-8df0-0ecce44ffeab
DTSTAMP:20260421T142007Z
SUMMARY:Spring Musical Rehearsal: Scene 5 and 10
URL;VALUE=URI:https://www.sjdlschool.com/student-life/fine-arts/spring-musi
 cal-production/calendar/8848389/spring-musical-rehearsal-scene-5-and-10
DTSTART:20260213T214500Z
DTEND:20260213T230000Z
END:VEVENT
END:VCALENDAR
