BEGIN:VCALENDAR
VERSION:2.0
PRODID:SchoolNow
CALSCALE:GREGORIAN
BEGIN:VEVENT
UID:5ad6b6e4-00d6-11f1-a52f-0ecce44ffeab
DTSTAMP:20260421T142007Z
SUMMARY:Spring Musical Rehearsal: Scenes 8 and 11
URL;VALUE=URI:https://www.sjdlschool.com/student-life/fine-arts/spring-musi
 cal-production/calendar/8848388/spring-musical-rehearsal-scenes-8-and-11
DTSTART:20260217T224500Z
DTEND:20260218T003000Z
END:VEVENT
END:VCALENDAR
