BEGIN:VCALENDAR
VERSION:2.0
PRODID:SchoolNow
CALSCALE:GREGORIAN
BEGIN:VEVENT
UID:5ad6b022-00d6-11f1-8bbd-0ecce44ffeab
DTSTAMP:20260421T142007Z
SUMMARY:Spring Musical Rehearsal: Scene 4
URL;VALUE=URI:https://www.sjdlschool.com/student-life/fine-arts/spring-musi
 cal-production/calendar/8848387/spring-musical-rehearsal-scene-4
DTSTART:20260220T010000Z
DTEND:20260220T030000Z
END:VEVENT
END:VCALENDAR
