BEGIN:VCALENDAR
VERSION:2.0
PRODID:SchoolNow
CALSCALE:GREGORIAN
BEGIN:VEVENT
UID:d1cdd20e-f696-11f0-a363-0ea6ad9966e7
DTSTAMP:20260421T142007Z
SUMMARY:Spring Musical Rehearsal: Scene 4
URL;VALUE=URI:https://www.sjdlschool.com/student-life/fine-arts/spring-musi
 cal-production/calendar/8838604/spring-musical-rehearsal-scene-4
DTSTART:20260121T013000Z
DTEND:20260121T030000Z
END:VEVENT
END:VCALENDAR
