BEGIN:VCALENDAR
VERSION:2.0
PRODID:SchoolNow
CALSCALE:GREGORIAN
BEGIN:VEVENT
UID:55127f4e-f1dc-11f0-9f38-025f1bde0d27
DTSTAMP:20260421T142007Z
SUMMARY:Cast Party - Blue Tables
URL;VALUE=URI:https://www.sjdlschool.com/student-life/fine-arts/spring-musi
 cal-production/calendar/8836576/cast-party-blue-tables
DTSTART:20260323T164500Z
DTEND:20260323T174500Z
END:VEVENT
END:VCALENDAR
