BEGIN:VCALENDAR
VERSION:2.0
PRODID:SchoolNow
CALSCALE:GREGORIAN
BEGIN:VEVENT
UID:bd4fd06c-ef7e-11f0-b79e-0a58a9feac02
DTSTAMP:20260421T142007Z
SUMMARY:Spring Musical Rehearsal: Scene 12 and 13
URL;VALUE=URI:https://www.sjdlschool.com/student-life/fine-arts/spring-musi
 cal-production/calendar/8834848/spring-musical-rehearsal-scene-12-and-13
DTSTART:20260205T224500Z
DTEND:20260206T003000Z
END:VEVENT
END:VCALENDAR
