BEGIN:VCALENDAR
VERSION:2.0
PRODID:SchoolNow
CALSCALE:GREGORIAN
BEGIN:VEVENT
UID:bd4fcf68-ef7e-11f0-bfd7-0a58a9feac02
DTSTAMP:20260421T142007Z
SUMMARY:Spring Musical Rehearsal: Scene 10
URL;VALUE=URI:https://www.sjdlschool.com/student-life/fine-arts/spring-musi
 cal-production/calendar/8834847/spring-musical-rehearsal-scene-10
DTSTART:20260203T224500Z
DTEND:20260204T003000Z
END:VEVENT
END:VCALENDAR
