BEGIN:VCALENDAR
VERSION:2.0
PRODID:SchoolNow
CALSCALE:GREGORIAN
BEGIN:VEVENT
UID:bd4fce64-ef7e-11f0-a4d5-0a58a9feac02
DTSTAMP:20260421T142007Z
SUMMARY:Spring Musical Rehearsal: Scene 7 and 9
URL;VALUE=URI:https://www.sjdlschool.com/student-life/fine-arts/spring-musi
 cal-production/calendar/8834846/spring-musical-rehearsal-scene-7-and-9
DTSTART:20260123T213000Z
DTEND:20260123T230000Z
END:VEVENT
END:VCALENDAR
