BEGIN:VCALENDAR
VERSION:2.0
PRODID:SchoolNow
CALSCALE:GREGORIAN
BEGIN:VEVENT
UID:bd4fcd56-ef7e-11f0-903b-0a58a9feac02
DTSTAMP:20260421T142007Z
SUMMARY:Spring Musical Rehearsal: Scene 5 and 6
URL;VALUE=URI:https://www.sjdlschool.com/student-life/fine-arts/spring-musi
 cal-production/calendar/8834845/spring-musical-rehearsal-scene-5-and-6
DTSTART:20260123T013000Z
DTEND:20260123T030000Z
END:VEVENT
END:VCALENDAR
