BEGIN:VCALENDAR
VERSION:2.0
PRODID:SchoolNow
CALSCALE:GREGORIAN
BEGIN:VEVENT
UID:bd4fcc5c-ef7e-11f0-a766-0a58a9feac02
DTSTAMP:20260421T142007Z
SUMMARY:Spring Musical Rehearsal: Scene 3
URL;VALUE=URI:https://www.sjdlschool.com/student-life/fine-arts/spring-musi
 cal-production/calendar/8834844/spring-musical-rehearsal-scene-3
DTSTART:20260116T213000Z
DTEND:20260116T230000Z
END:VEVENT
END:VCALENDAR
