BEGIN:VCALENDAR
VERSION:2.0
PRODID:SchoolNow
CALSCALE:GREGORIAN
BEGIN:VEVENT
UID:bd4fc98c-ef7e-11f0-9be8-0a58a9feac02
DTSTAMP:20260421T142007Z
SUMMARY:Spring Musical Rehearsal: Scene 11
URL;VALUE=URI:https://www.sjdlschool.com/student-life/fine-arts/spring-musi
 cal-production/calendar/8834842/spring-musical-rehearsal-scene-11
DTSTART:20260130T013000Z
DTEND:20260130T030000Z
END:VEVENT
END:VCALENDAR
