BEGIN:VCALENDAR
VERSION:2.0
PRODID:SchoolNow
CALSCALE:GREGORIAN
BEGIN:VEVENT
UID:bd4fc72a-ef7e-11f0-9023-0a58a9feac02
DTSTAMP:20260421T142007Z
SUMMARY:Spring Musical Rehearsal: Scene 1
URL;VALUE=URI:https://www.sjdlschool.com/student-life/fine-arts/spring-musi
 cal-production/calendar/8834841/spring-musical-rehearsal-scene-1
DTSTART:20260114T013000Z
DTEND:20260114T030000Z
END:VEVENT
END:VCALENDAR
