BEGIN:VCALENDAR
VERSION:2.0
PRODID:SchoolNow
CALSCALE:GREGORIAN
BEGIN:VEVENT
UID:bd4fa63c-ef7e-11f0-95d2-0a58a9feac02
DTSTAMP:20260421T142007Z
SUMMARY:Spring Musical Rehearsal: Scene 2
URL;VALUE=URI:https://www.sjdlschool.com/student-life/fine-arts/spring-musi
 cal-production/calendar/8834840/spring-musical-rehearsal-scene-2
DTSTART:20260116T013000Z
DTEND:20260116T030000Z
END:VEVENT
END:VCALENDAR
