BEGIN:VCALENDAR
VERSION:2.0
PRODID:SchoolNow
CALSCALE:GREGORIAN
BEGIN:VEVENT
UID:01a4e222-d7db-11f0-9dba-0a58a9feac02
DTSTAMP:20260421T142007Z
SUMMARY:Spring Musical Headshots
URL;VALUE=URI:https://www.sjdlschool.com/student-life/fine-arts/spring-musi
 cal-production/calendar/8823330/spring-musical-headshots
DTSTART:20260122T150000Z
DTEND:20260122T160000Z
END:VEVENT
END:VCALENDAR
