BEGIN:VCALENDAR
VERSION:2.0
PRODID:SchoolNow
CALSCALE:GREGORIAN
BEGIN:VEVENT
UID:01a4c080-d7db-11f0-b60a-0a58a9feac02
DTSTAMP:20260421T142007Z
SUMMARY:Spring Musical Costume Photos - date changed
URL;VALUE=URI:https://www.sjdlschool.com/student-life/fine-arts/spring-musi
 cal-production/calendar/8823329/spring-musical-costume-photos-date-changed
DTSTART:20260309T140000Z
DTEND:20260309T150000Z
END:VEVENT
END:VCALENDAR
