BEGIN:VCALENDAR
VERSION:2.0
PRODID:SchoolNow
CALSCALE:GREGORIAN
BEGIN:VEVENT
UID:416d7250-c74d-11f0-bb38-0e05db572559
DTSTAMP:20260421T142007Z
SUMMARY:Spring Musical - Pizza Dinner and All Cast Rehearsal
URL;VALUE=URI:https://www.sjdlschool.com/student-life/fine-arts/spring-musi
 cal-production/calendar/8807880/spring-musical-pizza-dinner-and-all-cast-r
 ehearsal
DTSTART:20260306T223000Z
DTEND:20260307T030000Z
END:VEVENT
END:VCALENDAR
