BEGIN:VCALENDAR
VERSION:2.0
PRODID:SchoolNow
CALSCALE:GREGORIAN
BEGIN:VEVENT
UID:416d7160-c74d-11f0-9168-0e05db572559
DTSTAMP:20260421T142007Z
SUMMARY:Spring Musical - Closing Show 3
URL;VALUE=URI:https://www.sjdlschool.com/student-life/fine-arts/spring-musi
 cal-production/calendar/8807879/spring-musical-closing-show-3
DTSTART:20260322T200000Z
DTEND:20260322T230000Z
END:VEVENT
END:VCALENDAR
