BEGIN:VCALENDAR
VERSION:2.0
PRODID:SchoolNow
CALSCALE:GREGORIAN
BEGIN:VEVENT
UID:416d707a-c74d-11f0-ae8a-0e05db572559
DTSTAMP:20260421T142007Z
SUMMARY:Spring Musical - Opening Night 2
URL;VALUE=URI:https://www.sjdlschool.com/student-life/fine-arts/spring-musi
 cal-production/calendar/8807878/spring-musical-opening-night-2
DTSTART:20260322T010000Z
DTEND:20260322T040000Z
END:VEVENT
END:VCALENDAR
