BEGIN:VCALENDAR
VERSION:2.0
PRODID:SchoolNow
CALSCALE:GREGORIAN
BEGIN:VEVENT
UID:416d6f8a-c74d-11f0-ae5c-0e05db572559
DTSTAMP:20260421T142007Z
SUMMARY:Mandatory All Cast Rehearsal
URL;VALUE=URI:https://www.sjdlschool.com/student-life/fine-arts/spring-musi
 cal-production/calendar/8807877/mandatory-all-cast-rehearsal
DTSTART:20260317T214500Z
DTEND:20260318T003000Z
END:VEVENT
END:VCALENDAR
