BEGIN:VCALENDAR
VERSION:2.0
PRODID:SchoolNow
CALSCALE:GREGORIAN
BEGIN:VEVENT
UID:416d6e9a-c74d-11f0-b3b7-0e05db572559
DTSTAMP:20260421T142007Z
SUMMARY:Spring Musical - Opening Night 1
URL;VALUE=URI:https://www.sjdlschool.com/student-life/fine-arts/spring-musi
 cal-production/calendar/8807876/spring-musical-opening-night-1
DTSTART:20260321T010000Z
DTEND:20260321T040000Z
END:VEVENT
END:VCALENDAR
