BEGIN:VCALENDAR
VERSION:2.0
PRODID:SchoolNow
CALSCALE:GREGORIAN
BEGIN:VEVENT
UID:416d6724-c74d-11f0-b8f7-0e05db572559
DTSTAMP:20260421T142007Z
SUMMARY:Mandatory All Cast Rehearsal
URL;VALUE=URI:https://www.sjdlschool.com/student-life/fine-arts/spring-musi
 cal-production/calendar/8807869/mandatory-all-cast-rehearsal
DTSTART:20260318T214500Z
DTEND:20260319T003000Z
END:VEVENT
END:VCALENDAR
