BEGIN:VCALENDAR
VERSION:2.0
PRODID:SchoolNow
CALSCALE:GREGORIAN
BEGIN:VEVENT
UID:416d65da-c74d-11f0-bfb8-0e05db572559
DTSTAMP:20260421T142007Z
SUMMARY:Mandatory Tech/Stage Crew Rehearsal
URL;VALUE=URI:https://www.sjdlschool.com/student-life/fine-arts/spring-musi
 cal-production/calendar/8807868/mandatory-tech-stage-crew-rehearsal
DTSTART:20260311T214500Z
DTEND:20260312T000000Z
END:VEVENT
END:VCALENDAR
