BEGIN:VCALENDAR
VERSION:2.0
PRODID:SchoolNow
CALSCALE:GREGORIAN
BEGIN:VEVENT
UID:54a139f2-903c-11ec-a67e-0a1c7b83d777
DTSTAMP:20220217T215533Z
SUMMARY:Costume Return Date
URL;VALUE=URI:https://www.sjdlschool.com/student-life/fine-arts/spring-musi
 cal-production/calendar/3107997/costume-return-date
DTSTART;VALUE=DATE:20220523
DTEND;VALUE=DATE:20220524
END:VEVENT
END:VCALENDAR
