BEGIN:VCALENDAR
VERSION:2.0
PRODID:SchoolNow
CALSCALE:GREGORIAN
BEGIN:VEVENT
UID:33b2e22c-903c-11ec-bf3b-0a1c7b83d777
DTSTAMP:20220217T215502Z
SUMMARY:Frozen Jr. Closing Night
URL;VALUE=URI:https://www.sjdlschool.com/student-life/fine-arts/spring-musi
 cal-production/calendar/3107996/dress-rehearsal-clone
DTSTART:20220522T013000Z
DTEND:20220522T043000Z
END:VEVENT
END:VCALENDAR
