BEGIN:VCALENDAR
VERSION:2.0
PRODID:SchoolNow
CALSCALE:GREGORIAN
BEGIN:VEVENT
UID:f91b9622-903b-11ec-b567-0a1c7b83d777
DTSTAMP:20220217T215259Z
SUMMARY:Dress Rehearsal
URL;VALUE=URI:https://www.sjdlschool.com/student-life/fine-arts/spring-musi
 cal-production/calendar/3107995/dress-rehearsal
DTSTART:20220520T190000Z
DTEND:20220520T220000Z
END:VEVENT
END:VCALENDAR
