BEGIN:VCALENDAR
VERSION:2.0
PRODID:SchoolNow
CALSCALE:GREGORIAN
BEGIN:VEVENT
UID:de10cd34-903b-11ec-bfc4-0a1c7b83d777
DTSTAMP:20220217T215214Z
SUMMARY:Mandatory All Cast Dress Rehearsal
URL;VALUE=URI:https://www.sjdlschool.com/student-life/fine-arts/spring-musi
 cal-production/calendar/3107994/mandatory-all-cast-dress-rehearsal-clone
DTSTART:20220518T220000Z
DTEND:20220519T003000Z
END:VEVENT
END:VCALENDAR
