BEGIN:VCALENDAR
VERSION:2.0
PRODID:SchoolNow
CALSCALE:GREGORIAN
BEGIN:VEVENT
UID:c0a40784-903b-11ec-8012-0a1c7b83d777
DTSTAMP:20220217T215125Z
SUMMARY:Mandatory All Cast Dress Rehearsal
URL;VALUE=URI:https://www.sjdlschool.com/student-life/fine-arts/spring-musi
 cal-production/calendar/3107993/mandatory-all-cast-dress-rehearsal
DTSTART:20220517T220000Z
DTEND:20220518T003000Z
END:VEVENT
END:VCALENDAR
