BEGIN:VCALENDAR
VERSION:2.0
PRODID:SchoolNow
CALSCALE:GREGORIAN
BEGIN:VEVENT
UID:a384e4b6-903b-11ec-b124-0a1c7b83d777
DTSTAMP:20220217T215036Z
SUMMARY:Cast Rehearsal and Pizza Night
URL;VALUE=URI:https://www.sjdlschool.com/student-life/fine-arts/spring-musi
 cal-production/calendar/3107992/cast-rehearsal-and-pizza-night-clone-clone
 -clone
DTSTART:20220513T220000Z
DTEND:20220514T020000Z
END:VEVENT
END:VCALENDAR
