BEGIN:VCALENDAR
VERSION:2.0
PRODID:SchoolNow
CALSCALE:GREGORIAN
BEGIN:VEVENT
UID:9d4f575c-903b-11ec-aa43-0a1c7b83d777
DTSTAMP:20220217T215025Z
SUMMARY:Cast Rehearsal and Pizza Night
URL;VALUE=URI:https://www.sjdlschool.com/student-life/fine-arts/spring-musi
 cal-production/calendar/3107991/cast-rehearsal-and-pizza-night-clone-clone
DTSTART:20220506T220000Z
DTEND:20220507T020000Z
END:VEVENT
END:VCALENDAR
