BEGIN:VCALENDAR
VERSION:2.0
PRODID:SchoolNow
CALSCALE:GREGORIAN
BEGIN:VEVENT
UID:917959f0-903b-11ec-8f3e-0a1c7b83d777
DTSTAMP:20220217T215005Z
SUMMARY:Cast Rehearsal and Pizza Night
URL;VALUE=URI:https://www.sjdlschool.com/student-life/fine-arts/spring-musi
 cal-production/calendar/3107990/cast-rehearsal-and-pizza-night-clone
DTSTART:20220429T220000Z
DTEND:20220430T020000Z
END:VEVENT
END:VCALENDAR
