BEGIN:VCALENDAR
VERSION:2.0
PRODID:SchoolNow
CALSCALE:GREGORIAN
BEGIN:VEVENT
UID:89998c32-903b-11ec-a29d-0a1c7b83d777
DTSTAMP:20220217T214952Z
SUMMARY:Cast Rehearsal and Pizza Night
URL;VALUE=URI:https://www.sjdlschool.com/student-life/fine-arts/spring-musi
 cal-production/calendar/3107989/cast-rehearsal-and-pizza-night
DTSTART:20220408T220000Z
DTEND:20220409T020000Z
END:VEVENT
END:VCALENDAR
