BEGIN:VCALENDAR
VERSION:2.0
PRODID:SchoolNow
CALSCALE:GREGORIAN
BEGIN:VEVENT
UID:60c1e2a0-903b-11ec-b198-0a1c7b83d777
DTSTAMP:20220217T214844Z
SUMMARY:Auditions
URL;VALUE=URI:https://www.sjdlschool.com/student-life/fine-arts/spring-musi
 cal-production/calendar/3107988/auditions-clone-clone
DTSTART:20220304T003000Z
DTEND:20220304T013000Z
END:VEVENT
END:VCALENDAR
