BEGIN:VCALENDAR
VERSION:2.0
PRODID:SchoolNow
CALSCALE:GREGORIAN
BEGIN:VEVENT
UID:5ad773f0-903b-11ec-a6ce-0a1c7b83d777
DTSTAMP:20220217T214834Z
SUMMARY:Auditions
URL;VALUE=URI:https://www.sjdlschool.com/student-life/fine-arts/spring-musi
 cal-production/calendar/3107987/auditions-clone
DTSTART:20220303T003000Z
DTEND:20220303T013000Z
END:VEVENT
END:VCALENDAR
