BEGIN:VCALENDAR
VERSION:2.0
PRODID:SchoolNow
CALSCALE:GREGORIAN
BEGIN:VEVENT
UID:556c177c-903b-11ec-b4b5-0a1c7b83d777
DTSTAMP:20220217T214825Z
SUMMARY:Auditions
URL;VALUE=URI:https://www.sjdlschool.com/student-life/fine-arts/spring-musi
 cal-production/calendar/3107986/auditions
DTSTART:20220302T003000Z
DTEND:20220302T013000Z
END:VEVENT
END:VCALENDAR
