BEGIN:VCALENDAR
VERSION:2.0
PRODID:SchoolNow
CALSCALE:GREGORIAN
BEGIN:VEVENT
UID:6ed1974a-9037-11ec-881e-028f0141988b
DTSTAMP:20220217T212029Z
SUMMARY:Registration for Auditions Due
URL;VALUE=URI:https://www.sjdlschool.com/student-life/fine-arts/spring-musi
 cal-production/calendar/3107969/registration-for-auditions-due
DTSTART;VALUE=DATE:20220227
DTEND;VALUE=DATE:20220228
END:VEVENT
END:VCALENDAR
