BEGIN:VCALENDAR
VERSION:2.0
PRODID:SchoolNow
CALSCALE:GREGORIAN
BEGIN:VEVENT
UID:4ea52f86-9037-11ec-a317-028f0141988b
DTSTAMP:20220217T211953Z
SUMMARY:Registration Opens (Grades 5-8 ONLY)
URL;VALUE=URI:https://www.sjdlschool.com/student-life/fine-arts/spring-musi
 cal-production/calendar/3107968/registration-opens
DTSTART;VALUE=DATE:20220220
DTEND;VALUE=DATE:20220221
END:VEVENT
END:VCALENDAR
