BEGIN:VCALENDAR
VERSION:2.0
PRODID:SchoolNow
CALSCALE:GREGORIAN
BEGIN:VEVENT
UID:4e468618-848c-11ec-942e-0e8c24a11ef9
DTSTAMP:20220203T005748Z
SUMMARY:Boys B Basketball Game @ St. Norbert
URL;VALUE=URI:https://www.sjdlschool.com/student-life/athletics/lancer-athl
 etics-boys/calendar/3089960/boys-a-basketball-game-vs-st-norbert-sjdl-clon
 e-clone
DTSTART:20220210T003000Z
DTEND:20220210T013000Z
END:VEVENT
END:VCALENDAR
