BEGIN:VCALENDAR
VERSION:2.0
PRODID:SchoolNow
CALSCALE:GREGORIAN
BEGIN:VEVENT
UID:422ad352-848c-11ec-8220-0e8c24a11ef9
DTSTAMP:20220203T005728Z
SUMMARY:Boys A Basketball Game @ St. Norbert
URL;VALUE=URI:https://www.sjdlschool.com/student-life/athletics/lancer-athl
 etics-boys/calendar/3089959/boys-a-basketball-game-vs-st-norbert-sjdl-clon
 e
DTSTART:20220209T233000Z
DTEND:20220210T003000Z
END:VEVENT
END:VCALENDAR
