BEGIN:VCALENDAR
VERSION:2.0
PRODID:SchoolNow
CALSCALE:GREGORIAN
BEGIN:VEVENT
UID:0c4ee1b4-56d9-11ec-a8c3-0e86db8fca29
DTSTAMP:20211206T211115Z
SUMMARY:Boys B Basketball Game vs. St. Cecilia @ SJDL
URL;VALUE=URI:https://www.sjdlschool.com/student-life/athletics/lancer-athl
 etics-boys/calendar/2934257/boys-a-basketball-game-vs-st-cecilia-sjdl-clon
 e
DTSTART:20220211T003000Z
DTEND:20220211T013000Z
END:VEVENT
END:VCALENDAR
